BEGIN:VCALENDAR
VERSION:2.0
PRODID:-//ChamberMaster//Event Calendar 2.0//EN
METHOD:PUBLISH
X-PUBLISHED-TTL:P3D
REFRESH-INTERVAL:P3D
CALSCALE:GREGORIAN
BEGIN:VEVENT
DTSTART:20210916T150000Z
DTEND:20210916T210000Z
X-MICROSOFT-CDO-ALLDAYEVENT:FALSE
SUMMARY:2021 Chamber Golf Tournament
DESCRIPTION:Join us as we get back into the "swing" of things!\n\nEnjoy an afternoon of fun in the sun while you connect with other community leaders\, network & team build.  We're back at Maxwelton Golf Club this year AND with each paid registration\, your foursome will receive a round of golf\, lunch & 4 Golfers Aid Packages.  \n\nWe invite you to hit the links with us and enjoy reconnecting with your fellow Chamber Members.  \n\n \n\n2021 Syracuse-Wawasee Chamber Golf Tournament\n\nThursday\, September 16\, 2021\n\nRegistraton:      11am\n\nLunch:               11:30am-12pm\n\nShotgun Start:  1pm\n\n(Awards for 1st\, 2nd & 3rd place teams will follow play.)\n\n\n\nTeam registration fee is $450 \nVery budget-friendly affordable sponsorships are also available to maximize your company's exposure leading up to and including the day of the event.  Sponsorship levels range from $150 to $2\,500 and if you don't hear from us in the near future and desire to be involved as a sponsor\, please contact us at your convenience.
X-ALT-DESC;FMTTYPE=text/html:<p><span style="font-family:tahoma\;"><span style="font-size:24px\;"><span style="color:#0000FF\;"><strong>Join us as we get back into the &quot\;swing&quot\; of things!</strong></span></span></span></p>\n\n<p><span style="font-size:16px\;"><span style="font-family:tahoma\;">Enjoy an afternoon of fun in the sun while you connect with other community leaders\, network &amp\; team build.&nbsp\; We&#39\;re back at Maxwelton Golf Club this year AND with each paid registration\, your foursome will receive a round of golf\, lunch &amp\; 4 Golfers Aid Packages.&nbsp\;&nbsp\;</span></span></p>\n\n<p><span style="font-size:16px\;"><span style="font-family:tahoma\;">We invite you to hit the links with us and enjoy reconnecting with your fellow Chamber Members.&nbsp\;&nbsp\;</span></span><br />\n&nbsp\;</p>\n\n<p style="color: rgb(51\, 51\, 51)\; font-family: sans-serif\, Arial\, Verdana\, &quot\;Trebuchet MS&quot\;\; font-size: 13px\;"><span style="font-size:16px\;"><span style="font-family:tahoma\;"><strong>2021 Syracuse-Wawasee Chamber Golf Tournament<br />\nThursday\, September 16\, 2021</strong></span></span></p>\n\n<p style="color: rgb(51\, 51\, 51)\; font-family: sans-serif\, Arial\, Verdana\, &quot\;Trebuchet MS&quot\;\; font-size: 13px\;"><span style="font-size:16px\;"><span style="font-family:tahoma\;"><strong>Registraton</strong>:&nbsp\; &nbsp\; &nbsp\; 11am</span></span></p>\n\n<p style="color: rgb(51\, 51\, 51)\; font-family: sans-serif\, Arial\, Verdana\, &quot\;Trebuchet MS&quot\;\; font-size: 13px\;"><span style="font-size:16px\;"><span style="font-family:tahoma\;"><strong>Lunch</strong>:&nbsp\; &nbsp\; &nbsp\; &nbsp\; &nbsp\; &nbsp\; &nbsp\; &nbsp\;11:30am-12pm</span></span></p>\n\n<p style="color: rgb(51\, 51\, 51)\; font-family: sans-serif\, Arial\, Verdana\, &quot\;Trebuchet MS&quot\;\; font-size: 13px\;"><span style="font-size:16px\;"><span style="font-family:tahoma\;"><strong>Shotgun Start:</strong>&nbsp\; 1pm</span></span></p>\n\n<p style="color: rgb(51\, 51\, 51)\; font-family: sans-serif\, Arial\, Verdana\, &quot\;Trebuchet MS&quot\;\; font-size: 13px\;"><span style="font-size:16px\;"><span style="font-family:tahoma\;">(Awards for 1st\, 2nd &amp\; 3rd place teams will follow&nbsp\;play.)</span><br />\n<br />\n<span style="font-family:arial\;"><strong>Team registration fee&nbsp\;is $450&nbsp\;</strong></span></span></p>\n<span style="font-size:16px\;"><span style="font-family:arial\;">Very budget-friendly affordable sponsorships are also available to maximize your company&#39\;s exposure leading up to and including the day of the event.&nbsp\; Sponsorship levels range from $150 to $2\,500 and if you don&#39\;t hear from us in the near future and desire to be involved as a sponsor\, please contact us at your convenience.</span></span>\n\n<p>&nbsp\;</p>\n\n<p>&nbsp\;</p>\n\n<p><br />\n&nbsp\;</p>\n
LOCATION:
UID:e.3573.70
SEQUENCE:3
DTSTAMP:20260422T142602Z
URL:https://tourism.swchamber.com/events/details/2021-chamber-golf-tournament-70
END:VEVENT

END:VCALENDAR
