BEGIN:VCALENDAR
VERSION:2.0
PRODID:-//ChamberMaster//Event Calendar 2.0//EN
METHOD:PUBLISH
X-PUBLISHED-TTL:P3D
REFRESH-INTERVAL:P3D
CALSCALE:GREGORIAN
BEGIN:VEVENT
DTSTART:20250611T161500Z
DTEND:20250611T170000Z
X-MICROSOFT-CDO-ALLDAYEVENT:FALSE
SUMMARY:Ambassador Meeting Luncheon at the Frog
DESCRIPTION:Monthly Ambassador Committee meeting\n\nAll Ambassadors are welcome to attend
X-ALT-DESC;FMTTYPE=text/html:Monthly Ambassador Committee meeting<br />\nAll Ambassadors are welcome to attend&nbsp\;&nbsp\;&nbsp\;&nbsp\;
LOCATION:The Frog 1116 S. Harkless Dr. Syracuse\, IN 46567
UID:e.3573.171
SEQUENCE:3
DTSTAMP:20260421T085810Z
URL:https://tourism.swchamber.com/events/details/ambassador-meeting-luncheon-at-the-frog-171
END:VEVENT

END:VCALENDAR
