BEGIN:VCALENDAR
VERSION:2.0
PRODID:-//ChamberMaster//Event Calendar 2.0//EN
METHOD:PUBLISH
X-PUBLISHED-TTL:P3D
REFRESH-INTERVAL:P3D
CALSCALE:GREGORIAN
BEGIN:VEVENT
DTSTART:20210511T200000Z
DTEND:20210511T220000Z
X-MICROSOFT-CDO-ALLDAYEVENT:FALSE
SUMMARY:BACK TO BUSINESS AFTER HOURS!
DESCRIPTION:Join us for networking face to face or mask to mask\, and some super duper happy hour refreshments. Open house style. Hosted by the Blue Barn Berry Farm & Event Venue.
X-ALT-DESC;FMTTYPE=text/html:Join us for networking face to face or mask to mask\, and some super duper happy hour refreshments. Open house style. Hosted by the Blue Barn Berry Farm &amp\; Event Venue.
LOCATION:9139 N. 300 E. Syracuse\, IN 46567
UID:e.3573.59
SEQUENCE:3
DTSTAMP:20260422T190552Z
URL:https://tourism.swchamber.com/events/details/back-to-business-after-hours-59
END:VEVENT

END:VCALENDAR
