BEGIN:VCALENDAR
VERSION:2.0
PRODID:-//ChamberMaster//Event Calendar 2.0//EN
METHOD:PUBLISH
X-PUBLISHED-TTL:P3D
REFRESH-INTERVAL:P3D
CALSCALE:GREGORIAN
BEGIN:VEVENT
DTSTART:20210617T203000Z
DTEND:20210617T223000Z
X-MICROSOFT-CDO-ALLDAYEVENT:FALSE
SUMMARY:Business After Hours at Oakwood Resort
DESCRIPTION:Business After Hours\n\nNetworking\, cash bar\, light free refreshments\, and fabulous prizes!
X-ALT-DESC;FMTTYPE=text/html:Business After Hours<br />\nNetworking\, cash bar\, light free refreshments\, and fabulous prizes!
LOCATION:702 E. Lake View Rd.\, Syracuse\, IN
UID:e.3573.72
SEQUENCE:3
DTSTAMP:20260422T172351Z
URL:https://tourism.swchamber.com/events/details/business-after-hours-at-oakwood-resort-72
END:VEVENT

END:VCALENDAR
