BEGIN:VCALENDAR
VERSION:2.0
PRODID:-//ChamberMaster//Event Calendar 2.0//EN
METHOD:PUBLISH
X-PUBLISHED-TTL:P3D
REFRESH-INTERVAL:P3D
CALSCALE:GREGORIAN
BEGIN:VEVENT
DTSTART:20210819T203000Z
DTEND:20210819T213000Z
X-MICROSOFT-CDO-ALLDAYEVENT:FALSE
SUMMARY:Business After Hours at Tippecanoe Lake Country Club
DESCRIPTION:Come enjoy networking\, drinks\, appetizers\, and prizes.
X-ALT-DESC;FMTTYPE=text/html:Come enjoy networking\, drinks\, appetizers\, and prizes.
LOCATION:Tippecanoe Lake Country Club
UID:e.3573.73
SEQUENCE:3
DTSTAMP:20260422T142906Z
URL:https://tourism.swchamber.com/events/details/business-after-hours-at-tippecanoe-lake-country-club-73
END:VEVENT

END:VCALENDAR
