BEGIN:VCALENDAR
VERSION:2.0
PRODID:-//ChamberMaster//Event Calendar 2.0//EN
METHOD:PUBLISH
X-PUBLISHED-TTL:P3D
REFRESH-INTERVAL:P3D
CALSCALE:GREGORIAN
BEGIN:VEVENT
DTSTART:20220426T220000Z
DTEND:20220426T230000Z
X-MICROSOFT-CDO-ALLDAYEVENT:FALSE
SUMMARY:Community Conversation
DESCRIPTION:Join us for a Community Conversation!\nThe Syracuse-Wawasee Chamber of Commerce invites you to a Community Conversation with David Terrell\, MBA at Ball State University and Executive Director of Indiana Communities Institute on Tuesday\, April 26\, 2022\, at 6:00 pm at the Syracuse Community Center\, located at 1013 North Long Drive\, Syracuse.\n\nMr. Terrell will address place-making and creating a welcoming and inclusive community. With many years of experience working directly with communities of all sizes\, Terrell explains how social offerings\, openness\, and aesthetics all play a factor in attaching and connecting people to a place. \n\nAny member of the Syracuse community is welcome to attend and participate in this free Community Conversation.
X-ALT-DESC;FMTTYPE=text/html:Join us for a Community Conversation!\n<p class="_04xlpA direction-ltr align-start para-style-body" style="color: rgb(241\, 82\, 38)\; font-family: &quot\;YAD7Q9NigKI 0&quot\;\, _fb_\, auto\; --font-size:27.363px\; --line-height:1.4\; line-height: 38px\;"><span class="JsGRdQ" style="font-weight: 700\;">The Syracuse-Wawasee Chamber of Commerce invites you to a Community Conversation with David Terrell\, MBA at Ball State University and Executive Director of Indiana Communities Institute on Tuesday\, April 26\, 2022\, at 6:00 pm at the Syracuse Community Center\, located at 1013 North Long Drive\, Syracuse.</span></p>\n\n<p class="_04xlpA direction-ltr align-start para-style-body" style="color: rgb(241\, 82\, 38)\; font-family: &quot\;YAD7Q9NigKI 0&quot\;\, _fb_\, auto\; --font-size:27.363px\; --line-height:1.4\; line-height: 38px\;"><span class="JsGRdQ" style="font-weight: 700\;">Mr. Terrell will address place-making and creating a welcoming and inclusive community. With many years of experience working directly with communities of all sizes\, Terrell explains how social offerings\, openness\, and aesthetics all play a factor in attaching and connecting people to a place.</span><span class="JsGRdQ white-space-prewrap" style="font-weight: 700\;"> </span></p>\n\n<p class="_04xlpA direction-ltr align-start para-style-body" style="color: rgb(241\, 82\, 38)\; font-family: &quot\;YAD7Q9NigKI 0&quot\;\, _fb_\, auto\; --font-size:27.363px\; --line-height:1.4\; line-height: 38px\;"><span class="JsGRdQ" style="font-weight: 700\;">Any member of the Syracuse community is welcome to attend and participate in this free Community Conversation.</span></p>\n
LOCATION:Syracuse Community Center 1013 N. Long Dr.\, Syracuse
UID:e.3573.92
SEQUENCE:3
DTSTAMP:20260422T013809Z
URL:https://tourism.swchamber.com/events/details/community-conversation-92
END:VEVENT

END:VCALENDAR
