BEGIN:VCALENDAR
VERSION:2.0
PRODID:-//ChamberMaster//Event Calendar 2.0//EN
METHOD:PUBLISH
X-PUBLISHED-TTL:P3D
REFRESH-INTERVAL:P3D
CALSCALE:GREGORIAN
BEGIN:VEVENT
DTSTART:20200505T153000Z
DTEND:20200505T160000Z
X-MICROSOFT-CDO-ALLDAYEVENT:FALSE
SUMMARY:Congresswoman\, Jackie Walorski Town Hall
DESCRIPTION:Join us via Zoom for a meeting with Congresswoman Jackie Walorkski
X-ALT-DESC;FMTTYPE=text/html:Join us via Zoom for a meeting with Congresswoman Jackie Walorkski
LOCATION:Renea Salyer is inviting you to a scheduled Zoom meeting. Topic: Jackie Waloriski Town Hall Time: May 5\, 2020 11:30 AM Indiana (East) Join Zoom Meeting https://us04web.zoom.us/j/75054125939?pwd=NTVVVnp5RFNQTzBGZ3c0b2ZxNjFhQT09 Meeting ID: 750 5412 5939 Password: 9VLr5p
UID:e.3573.55
SEQUENCE:3
DTSTAMP:20260423T135347Z
URL:https://tourism.swchamber.com/events/details/congresswoman-jackie-walorski-town-hall-55
END:VEVENT

END:VCALENDAR
