BEGIN:VCALENDAR
VERSION:2.0
PRODID:-//ChamberMaster//Event Calendar 2.0//EN
METHOD:PUBLISH
X-PUBLISHED-TTL:P3D
REFRESH-INTERVAL:P3D
CALSCALE:GREGORIAN
BEGIN:VEVENT
DTSTART;VALUE=DATE:20211203
DTEND;VALUE=DATE:20220101
TRANSP:TRANSPARENT
X-MICROSOFT-CDO-ALLDAYEVENT:TRUE
SUMMARY:Festival of Wreaths & Wreath Walk
DESCRIPTION:Participate in the Festival of Wreaths by decorating a wreath and putting it on your front door or window. You provide the wreath and materials\, we supply the promotion and fun. Once all participating businesses and residents have their wreaths up\, The Chamber will create a map for the wreath walk.
X-ALT-DESC;FMTTYPE=text/html:Participate in the Festival of Wreaths by decorating a wreath and putting it on your front door or window. You provide the wreath and materials\, we supply the promotion and fun. Once all participating businesses and residents have their wreaths up\, The Chamber will create a map for the wreath walk.
LOCATION:Town of Syracuse
UID:e.3573.82
SEQUENCE:3
DTSTAMP:20260422T082943Z
URL:https://tourism.swchamber.com/events/details/festival-of-wreaths-wreath-walk-82
END:VEVENT

END:VCALENDAR
