BEGIN:VCALENDAR
VERSION:2.0
PRODID:-//ChamberMaster//Event Calendar 2.0//EN
METHOD:PUBLISH
X-PUBLISHED-TTL:P3D
REFRESH-INTERVAL:P3D
CALSCALE:GREGORIAN
BEGIN:VEVENT
DTSTART:20200313T120000Z
DTEND:20200313T210000Z
X-MICROSOFT-CDO-ALLDAYEVENT:FALSE
SUMMARY:Friday the 13th SALE!
DESCRIPTION:FRIDAY the 13th SALE\n\n\n\n13% OFF \n\n	So Clean CPAP Machine\n	CPAP cleaners\, wipes\, spray\n\n	 \n\n20% OFF \n\n\n	ALL Stander Products   Bed rails\, bed canes\, tension poles \n	Bathroom supplies   Toilet seats\, risers\, bath benches\, etc.\n	Lift Chairs \n	Socks & Hose under 30 mmHg\n\n	 \n\n25% OFF \n\n\n	Bedroom supplies   Sheets\, mattress covers\, bed wetting alarms\n\n\n\nBUY TWO AND GET ONE FREE!\n\n\n	Posey Non-Skid Slippers\n	Lotions & Potions\n\n\n\nSAVE HUNDREDS ON SELECT Scooters!
X-ALT-DESC;FMTTYPE=text/html:<strong><span style="font-size:24px"><span style="font-family:comic sans ms">FRIDAY the 13th SALE</span></span><br />\n<br />\n<span style="font-size:16pt"><span style="font-family:calibri"><span style="font-size:14px">13% OFF </span></span></span></strong>\n<ul>\n	<li><span style="font-size:14px">So Clean CPAP Machine</span></li>\n	<li><span style="font-size:14px">CPAP cleaners\, wipes\, spray<br />\n	&nbsp\;</span></li>\n</ul>\n<span style="font-size:14px"><strong><span style="font-family:calibri">20% OFF </span></strong></span>\n\n<ul>\n	<li><span style="font-size:14px">ALL Stander Products &ndash\; Bed rails\, bed canes\, tension poles </span></li>\n	<li><span style="font-size:14px">Bathroom supplies &ndash\; Toilet seats\, risers\, bath benches\, etc.</span></li>\n	<li><span style="font-size:14px">Lift Chairs </span></li>\n	<li><span style="font-size:14px">Socks &amp\; Hose under 30 mmHg<br />\n	&nbsp\;</span></li>\n</ul>\n<span style="font-size:14px"><strong><span style="font-family:calibri">25% OFF </span></strong></span>\n\n<ul>\n	<li><span style="font-size:14px">Bedroom supplies &ndash\; Sheets\, mattress covers\, bed wetting alarms</span></li>\n</ul>\n<br />\n<span style="font-size:14px"><strong><span style="font-family:calibri">BUY TWO AND GET ONE FREE!</span></strong></span>\n\n<ul>\n	<li><span style="font-size:14px">Posey Non-Skid Slippers</span></li>\n	<li><span style="font-size:14px">Lotions &amp\; Potions</span></li>\n</ul>\n<br />\n<span style="font-size:14px"><span style="font-family:calibri"><strong>SAVE HUNDREDS ON SELECT Scooters!</strong> </span></span><br />\n&nbsp\;
LOCATION:Goshen Home Medical 1501 South Main Street Goshen\, IN 46526
UID:e.3573.52
SEQUENCE:3
DTSTAMP:20260423T165701Z
URL:https://tourism.swchamber.com/events/details/friday-the-13th-sale-52
END:VEVENT

END:VCALENDAR
