BEGIN:VCALENDAR
VERSION:2.0
PRODID:-//ChamberMaster//Event Calendar 2.0//EN
METHOD:PUBLISH
X-PUBLISHED-TTL:P3D
REFRESH-INTERVAL:P3D
CALSCALE:GREGORIAN
BEGIN:VEVENT
DTSTART:20211028T190000Z
DTEND:20211028T203000Z
X-MICROSOFT-CDO-ALLDAYEVENT:FALSE
SUMMARY:Last Highway Clean-Up for 2021
DESCRIPTION:Please join us in beautifying SR 13 from the railroad tracks to Bowser Rd. Bring gloves and trash retrieval tools. Bags and reflective vests will be provided. Each participant receives a free long sleeved t-shirt. Let us know if you want to help and what size shirt you need.
X-ALT-DESC;FMTTYPE=text/html:Please join us in beautifying SR 13 from the railroad tracks to Bowser Rd. Bring gloves and trash retrieval tools. Bags and reflective vests will be provided. Each participant receives a free long sleeved t-shirt. Let us know if you want to help and what size shirt you need.<br />\n&nbsp\;
LOCATION:Meet at Syracuse CVS parking lot
UID:e.3573.81
SEQUENCE:3
DTSTAMP:20260422T113148Z
URL:https://tourism.swchamber.com/events/details/last-highway-clean-up-for-2021-81
END:VEVENT

END:VCALENDAR
