BEGIN:VCALENDAR
VERSION:2.0
PRODID:-//ChamberMaster//Event Calendar 2.0//EN
METHOD:PUBLISH
X-PUBLISHED-TTL:P3D
REFRESH-INTERVAL:P3D
CALSCALE:GREGORIAN
BEGIN:VEVENT
DTSTART:20240222T160000Z
DTEND:20240222T180000Z
X-MICROSOFT-CDO-ALLDAYEVENT:FALSE
SUMMARY:LeadHership Women's Luncheon
DESCRIPTION:Join us as we gather professional women in and around the Syracuse area for our 3rd annual professional women's luncheon. Keynote speaker is Evelyn Magley\, CEO of The Basketball League. Enjoy a delicious lunch and shopping at twenty vendor tables.
X-ALT-DESC;FMTTYPE=text/html:<span style="color: rgb(94\, 94\, 94)\; font-family: Lato\; font-size: 14px\;">Join us as we gather professional women in and around the Syracuse area for our 3rd annual professional women&#39\;s luncheon. Keynote speaker is Evelyn Magley\, CEO of The Basketball League. Enjoy a delicious lunch and shopping at twenty vendor tables.</span>
LOCATION:Oakwood Resort 702 E Lakeview Rd Syracuse IN 46567
UID:e.3573.142
SEQUENCE:3
DTSTAMP:20260420T150438Z
URL:https://tourism.swchamber.com/events/details/leadhership-women-s-luncheon-142
END:VEVENT

END:VCALENDAR
