BEGIN:VCALENDAR
VERSION:2.0
PRODID:-//ChamberMaster//Event Calendar 2.0//EN
METHOD:PUBLISH
X-PUBLISHED-TTL:P3D
REFRESH-INTERVAL:P3D
CALSCALE:GREGORIAN
BEGIN:VEVENT
DTSTART:20200415T160000Z
DTEND:20200415T170000Z
X-MICROSOFT-CDO-ALLDAYEVENT:FALSE
SUMMARY:Lunch & Learn
DESCRIPTION:
X-ALT-DESC;FMTTYPE=text/html:
LOCATION:Tippy Creek Winery 5920 N 200 E\, Leesburg\, IN 46538\, USA
UID:e.3573.25
SEQUENCE:3
DTSTAMP:20260423T151743Z
URL:https://tourism.swchamber.com/events/details/lunch-learn-25
END:VEVENT

END:VCALENDAR
