BEGIN:VCALENDAR
VERSION:2.0
PRODID:-//ChamberMaster//Event Calendar 2.0//EN
METHOD:PUBLISH
X-PUBLISHED-TTL:P3D
REFRESH-INTERVAL:P3D
CALSCALE:GREGORIAN
BEGIN:VEVENT
DTSTART:20210617T160000Z
DTEND:20210617T170000Z
X-MICROSOFT-CDO-ALLDAYEVENT:FALSE
SUMMARY:Lunch & Learn
DESCRIPTION:Join us for our quarterly Lunch & Learn via Zoom!\n\nWe will hear from Marjorie Stephens\, President/CEO of the Better Business Bureau on "What is the BBB and how it benefits businesses and consumers."
X-ALT-DESC;FMTTYPE=text/html:Join us for our quarterly Lunch &amp\; Learn via Zoom!<br />\nWe will hear from Marjorie Stephens\, President/CEO of the Better Business Bureau on &quot\;<span style="color: rgb(32\, 31\, 30)\; font-family: Calibri\, sans-serif\; font-size: 14.6667px\;">What is the BBB and how it benefits businesses and consumers.&quot\;</span>
LOCATION:Renea Salyer is inviting you to a scheduled Zoom meeting. Topic: Lunch & Zoom with the SWChamber Time: Jun 17\, 2021 12:00 PM Eastern Time (US and Canada) Join Zoom Meeting https://us02web.zoom.us/j/86332063787?pwd=aE4wdlluL01XWU9idWluQ1RxcjEvUT09 Meeting ID: 863 3206 3787 Passcode: 750753 One tap mobile +13126266799\,\,86332063787#\,\,\,\,*750753# US (Chicago) +19292056099\,\,86332063787#\,\,\,\,*750753# US (New York) Dial by your location +1 312 626 6799 US (Chicago) +1 929 205 6099 US (New York) +1 301 715 8592 US (Washington DC) +1 346 248 7799 US (Houston) +1 669 900 6833 US (San Jose) +1 253 215 8782 US (Tacoma) Meeting ID: 863 3206 3787 Passcode: 750753 Find your local number: https://us02web.zoom.us/u/kdjApvo7CQ
UID:e.3573.62
SEQUENCE:3
DTSTAMP:20260422T171843Z
URL:https://tourism.swchamber.com/events/details/lunch-learn-62
END:VEVENT

END:VCALENDAR
