BEGIN:VCALENDAR
VERSION:2.0
PRODID:-//ChamberMaster//Event Calendar 2.0//EN
METHOD:PUBLISH
X-PUBLISHED-TTL:P3D
REFRESH-INTERVAL:P3D
CALSCALE:GREGORIAN
BEGIN:VEVENT
DTSTART:20211014T160000Z
DTEND:20211014T170000Z
X-MICROSOFT-CDO-ALLDAYEVENT:FALSE
SUMMARY:Lunch & Learn - Digital Marketing Simplified
DESCRIPTION:Digital marketing simplified - What do I use and when?! Presented by Nick Prentice - Blue River Digital\n\nDiscussions on where to start in the world of digital marketing\, what platforms to utilize\, and how often. Recommendations are specific to your business.
X-ALT-DESC;FMTTYPE=text/html:Digital marketing simplified - What do I use and when?! Presented by Nick Prentice - Blue River Digital<br />\nDiscussions on where to start in the world of digital marketing\, what platforms to utilize\, and how often. Recommendations are specific to your business.
LOCATION:Syracuse - Wawasee Chamber Office 207 N. Huntington St. Syracuse\, IN 46567
UID:e.3573.80
SEQUENCE:3
DTSTAMP:20260422T113210Z
URL:https://tourism.swchamber.com/events/details/lunch-learn-digital-marketing-simplified-80
END:VEVENT

END:VCALENDAR
