BEGIN:VCALENDAR
VERSION:2.0
PRODID:-//ChamberMaster//Event Calendar 2.0//EN
METHOD:PUBLISH
X-PUBLISHED-TTL:P3D
REFRESH-INTERVAL:P3D
CALSCALE:GREGORIAN
BEGIN:VEVENT
DTSTART:20260430T130000Z
DTEND:20260430T133000Z
X-MICROSOFT-CDO-ALLDAYEVENT:FALSE
SUMMARY:Ribbon Cutting for New Milford Elementary School
DESCRIPTION:Ribbon Cutting at the new Milford Elementary School!
X-ALT-DESC;FMTTYPE=text/html:Ribbon Cutting at the new Milford Elementary School!&nbsp\;
LOCATION:Milford Elementary School 611 W. Emeline St. Milford\, IN 46542
UID:e.3573.1524
SEQUENCE:3
DTSTAMP:20260420T180610Z
URL:https://tourism.swchamber.com/events/details/ribbon-cutting-for-new-milford-elementary-school-1524
END:VEVENT

END:VCALENDAR
