BEGIN:VCALENDAR
VERSION:2.0
PRODID:-//ChamberMaster//Event Calendar 2.0//EN
METHOD:PUBLISH
X-PUBLISHED-TTL:P3D
REFRESH-INTERVAL:P3D
CALSCALE:GREGORIAN
BEGIN:VEVENT
DTSTART:20211127T180000Z
DTEND:20211127T200000Z
X-MICROSOFT-CDO-ALLDAYEVENT:FALSE
SUMMARY:Small Business Saturday
DESCRIPTION:Small Business Saturday
X-ALT-DESC;FMTTYPE=text/html:Small Business Saturday
LOCATION:Syracuse\, IN
UID:e.3573.76
SEQUENCE:3
DTSTAMP:20260422T094928Z
URL:https://tourism.swchamber.com/events/details/small-business-saturday-76
END:VEVENT

END:VCALENDAR
