BEGIN:VCALENDAR
VERSION:2.0
PRODID:-//ChamberMaster//Event Calendar 2.0//EN
METHOD:PUBLISH
X-PUBLISHED-TTL:P3D
REFRESH-INTERVAL:P3D
CALSCALE:GREGORIAN
BEGIN:VEVENT
DTSTART:20210819T150000Z
DTEND:20210819T170000Z
X-MICROSOFT-CDO-ALLDAYEVENT:FALSE
SUMMARY:Syracuse Area Job Fair
DESCRIPTION:Job seekers come out and meet a wide variety of employers at the Syracuse Area Job Fair on Thursday\, August 19th from 11 am to 1 pm at the Old South Shore Restaurant - 10601 N. SR 13\, Syracuse\, IN. The first 50 people through the door will receive a voucher for a free lunch.\n\nEmployment representatives who will be present are:\n\nPOLYWOOD\n\nSmoker Craft\n\nBurnworth Zollars Auto Group\n\nCarr Tech Automotive Solutions\n\nFirefly Home Care\n\nAIA Countertops\n\nInterra Credit Union\n\nBowen Center\n\nNew Hope Pet Rescue\n\nWawasee Community Schools\n\nKPGCo\n\nJasper Plastics\n\nParker Hannifin\n\nLeading Edge Countertops\n\nGoshen Physicians\n\nBison Trailer\n\nWild Thing Tax\n\nFor more information\, contact Renea@swchamber.com or call the SWChamber at 574-457-5637
X-ALT-DESC;FMTTYPE=text/html:<div class="kvgmc6g5 cxmmr5t8 oygrvhab hcukyx3x c1et5uql" style="overflow-wrap: break-word\; margin: 0px\; font-family: &quot\;Segoe UI Historic&quot\;\, &quot\;Segoe UI&quot\;\, Helvetica\, Arial\, sans-serif\; color: rgb(5\, 5\, 5)\; font-size: 15px\;">Job seekers come out and meet a wide variety of employers at the Syracuse Area Job Fair on Thursday\, August 19th from 11 am to 1 pm at the Old South Shore Restaurant - 10601 N. SR 13\, Syracuse\, IN. The first 50 people through the door will receive a voucher for a free lunch.</div>\n\n<div class="o9v6fnle cxmmr5t8 oygrvhab hcukyx3x c1et5uql" style="overflow-wrap: break-word\; margin: 0.5em 0px 0px\; font-family: &quot\;Segoe UI Historic&quot\;\, &quot\;Segoe UI&quot\;\, Helvetica\, Arial\, sans-serif\; color: rgb(5\, 5\, 5)\; font-size: 15px\;">Employment representatives who will be present are:</div>\n\n<div class="o9v6fnle cxmmr5t8 oygrvhab hcukyx3x c1et5uql" style="overflow-wrap: break-word\; margin: 0.5em 0px 0px\; font-family: &quot\;Segoe UI Historic&quot\;\, &quot\;Segoe UI&quot\;\, Helvetica\, Arial\, sans-serif\; color: rgb(5\, 5\, 5)\; font-size: 15px\;">POLYWOOD<br />\nSmoker Craft<br />\nBurnworth Zollars Auto Group<br />\nCarr Tech Automotive Solutions<br />\nFirefly Home Care<br />\nAIA Countertops<br />\nInterra Credit Union<br />\nBowen Center<br />\nNew Hope Pet Rescue<br />\nWawasee Community Schools<br />\nKPGCo<br />\nJasper Plastics<br />\nParker Hannifin<br />\nLeading Edge Countertops<br />\nGoshen Physicians<br />\nBison Trailer<br />\nWild Thing Tax</div>\n\n<div class="o9v6fnle cxmmr5t8 oygrvhab hcukyx3x c1et5uql" style="overflow-wrap: break-word\; margin: 0.5em 0px 0px\; font-family: &quot\;Segoe UI Historic&quot\;\, &quot\;Segoe UI&quot\;\, Helvetica\, Arial\, sans-serif\; color: rgb(5\, 5\, 5)\; font-size: 15px\;">For more information\, contact Renea@swchamber.com or call the SWChamber at 574-457-5637</div>\n
LOCATION:10601 N. SR 13\, Syracuse\, IN
UID:e.3573.77
SEQUENCE:3
DTSTAMP:20260422T154552Z
URL:https://tourism.swchamber.com/events/details/syracuse-area-job-fair-77
END:VEVENT

END:VCALENDAR
