BEGIN:VCALENDAR
VERSION:2.0
PRODID:-//ChamberMaster//Event Calendar 2.0//EN
METHOD:PUBLISH
X-PUBLISHED-TTL:P3D
REFRESH-INTERVAL:P3D
CALSCALE:GREGORIAN
BEGIN:VEVENT
DTSTART:20211118T170000Z
DTEND:20211118T180000Z
X-MICROSOFT-CDO-ALLDAYEVENT:FALSE
SUMMARY:Syracuse-Wawasee Chamber Meeting
DESCRIPTION:On Zoom
X-ALT-DESC;FMTTYPE=text/html:On Zoom<br />\n&nbsp\;
LOCATION:
UID:e.3573.66
SEQUENCE:3
DTSTAMP:20260422T095254Z
URL:https://tourism.swchamber.com/events/details/syracuse-wawasee-chamber-meeting-66
END:VEVENT

END:VCALENDAR
