BEGIN:VCALENDAR
VERSION:2.0
PRODID:-//ChamberMaster//Event Calendar 2.0//EN
METHOD:PUBLISH
X-PUBLISHED-TTL:P3D
REFRESH-INTERVAL:P3D
CALSCALE:GREGORIAN
BEGIN:VEVENT
DTSTART:20210722T200000Z
DTEND:20210722T230000Z
X-MICROSOFT-CDO-ALLDAYEVENT:FALSE
SUMMARY:The Watershed Foundation After Hours
DESCRIPTION:Collaborating Business After Hours with the Kosciusko Chamber showcasing The Watershed Foundation After Hours\n\nSmithsonian Water Ways Exhibit
X-ALT-DESC;FMTTYPE=text/html:Collaborating Business After Hours with the Kosciusko Chamber showcasing The Watershed Foundation After Hours<br />\nSmithsonian Water Ways Exhibit
LOCATION:North Webster Community Public Library 110 E. North Street North Webster
UID:e.3573.74
SEQUENCE:3
DTSTAMP:20260422T160218Z
URL:https://tourism.swchamber.com/events/details/the-watershed-foundation-after-hours-74
END:VEVENT

END:VCALENDAR
