BEGIN:VCALENDAR
VERSION:2.0
PRODID:-//ChamberMaster//Event Calendar 2.0//EN
METHOD:PUBLISH
X-PUBLISHED-TTL:P3D
REFRESH-INTERVAL:P3D
CALSCALE:GREGORIAN
BEGIN:VEVENT
DTSTART:20220317T130000Z
DTEND:20220317T150000Z
X-MICROSOFT-CDO-ALLDAYEVENT:FALSE
SUMMARY:Wawasee High School Student Job Fair
DESCRIPTION:Register for a $75 table at this excellent event geared toward recruiting\, interviewing and hiring High School students for spring and summer jobs.  \n\nYou know your business and its needs better than anyone so come out with a stack of job applications\, a bunch of business cards and plan to meet a great group of potential job candidates at Wawasee High School in the Annex Gym from 9a-11a on March 17th.
X-ALT-DESC;FMTTYPE=text/html:<p>Register for a $75 table at this excellent event geared toward recruiting\, interviewing and hiring High School students for spring and summer jobs.&nbsp\;&nbsp\;</p>\n\n<p>You know your business and its needs better than anyone so come out with a stack of job applications\, a bunch of business cards and plan to meet a great group of potential job candidates at Wawasee High School in the Annex Gym from 9a-11a on March 17th.</p>\n
LOCATION:Wawasee High School - Annex Gym 1 Warrior Path Syracuse\, IN 46567
UID:e.3573.89
SEQUENCE:3
DTSTAMP:20260422T052220Z
URL:https://tourism.swchamber.com/events/details/wawasee-high-school-student-job-fair-89
END:VEVENT

END:VCALENDAR
