BEGIN:VCALENDAR
VERSION:2.0
PRODID:-//ChamberMaster//Event Calendar 2.0//EN
METHOD:PUBLISH
X-PUBLISHED-TTL:P3D
REFRESH-INTERVAL:P3D
CALSCALE:GREGORIAN
BEGIN:VEVENT
DTSTART:20200715T160000Z
DTEND:20200715T170000Z
X-MICROSOFT-CDO-ALLDAYEVENT:FALSE
SUMMARY:What Makes Good Customer Service? Lunch & Learn
DESCRIPTION:A panel discussion from customer service experts:\n\nKim Strawbridge - Lake City Bank\n\nKelly Kaase - Miller's Merry Manor\n\nDave Yarian - AIA Countertops\n\n \n\nLunch provided by Health Elite Sports Nutrition. \n\nCost to attend: $10.00
X-ALT-DESC;FMTTYPE=text/html:<p class="_04xlpA direction-ltr align-start para-style-body" style="line-height: 1.4\; font-family: &quot\;YACgEbc43jc 0&quot\;\, _fb_\, auto\; font-size: 22.1752px\; color: rgb(102\, 102\, 102)\;"><span class="JsGRdQ" style="font-weight: 700\;">A panel discussion from customer service experts:</span></p>\n\n<p class="_04xlpA direction-ltr align-start para-style-body" style="line-height: 1.4\; font-family: &quot\;YACgEbc43jc 0&quot\;\, _fb_\, auto\; font-size: 22.1752px\; color: rgb(102\, 102\, 102)\;"><span class="JsGRdQ" style="font-weight: 700\;">Kim Strawbridge - Lake City Bank</span></p>\n\n<p class="_04xlpA direction-ltr align-start para-style-body" style="line-height: 1.4\; font-family: &quot\;YACgEbc43jc 0&quot\;\, _fb_\, auto\; font-size: 22.1752px\; color: rgb(102\, 102\, 102)\;"><span class="JsGRdQ" style="font-weight: 700\;">Kelly Kaase - Miller&#39\;s Merry Manor</span></p>\n\n<p class="_04xlpA direction-ltr align-start para-style-body" style="line-height: 1.4\; font-family: &quot\;YACgEbc43jc 0&quot\;\, _fb_\, auto\; font-size: 22.1752px\; color: rgb(102\, 102\, 102)\;"><span class="JsGRdQ" style="font-weight: 700\;">Dave Yarian - AIA Countertops</span><br />\n&nbsp\;</p>\n\n<p class="_04xlpA direction-ltr align-center para-style-body" style="line-height: 1.4\; font-family: &quot\;YACgEUaXOJg 0&quot\;\, _fb_\, auto\; font-size: 28.001px\; color: rgb(102\, 102\, 102)\;"><span class="JsGRdQ">Lunch provided by Health Elite Sports Nutrition.</span><span class="JsGRdQ white-space-prewrap"> </span></p>\n\n<p class="_04xlpA direction-ltr align-center para-style-body" style="line-height: 1.4\; font-family: &quot\;YACgEUaXOJg 0&quot\;\, _fb_\, auto\; font-size: 28.001px\; color: rgb(102\, 102\, 102)\;"><span class="JsGRdQ">Cost to attend:</span><span class="JsGRdQ white-space-prewrap"> </span><span class="JsGRdQ">$10.00</span></p>\n
LOCATION:Tippy Creek Winery 5920 N. 200 E. Leesburg\, IN 46567
UID:e.3573.56
SEQUENCE:3
DTSTAMP:20260423T105352Z
URL:https://tourism.swchamber.com/events/details/what-makes-good-customer-service-lunch-learn-56
END:VEVENT

END:VCALENDAR
